BEGIN:VCALENDAR
VERSION:2.0
PRODID:-//Community Services for Every1 - ECPv6.15.20//NONSGML v1.0//EN
CALSCALE:GREGORIAN
METHOD:PUBLISH
X-WR-CALNAME:Community Services for Every1
X-ORIGINAL-URL:https://www.csevery1.com
X-WR-CALDESC:Events for Community Services for Every1
REFRESH-INTERVAL;VALUE=DURATION:PT1H
X-Robots-Tag:noindex
X-PUBLISHED-TTL:PT1H
BEGIN:VTIMEZONE
TZID:America/New_York
BEGIN:DAYLIGHT
TZOFFSETFROM:-0500
TZOFFSETTO:-0400
TZNAME:EDT
DTSTART:20180311T070000
END:DAYLIGHT
BEGIN:STANDARD
TZOFFSETFROM:-0400
TZOFFSETTO:-0500
TZNAME:EST
DTSTART:20181104T060000
END:STANDARD
BEGIN:DAYLIGHT
TZOFFSETFROM:-0500
TZOFFSETTO:-0400
TZNAME:EDT
DTSTART:20190310T070000
END:DAYLIGHT
BEGIN:STANDARD
TZOFFSETFROM:-0400
TZOFFSETTO:-0500
TZNAME:EST
DTSTART:20191103T060000
END:STANDARD
BEGIN:DAYLIGHT
TZOFFSETFROM:-0500
TZOFFSETTO:-0400
TZNAME:EDT
DTSTART:20200308T070000
END:DAYLIGHT
BEGIN:STANDARD
TZOFFSETFROM:-0400
TZOFFSETTO:-0500
TZNAME:EST
DTSTART:20201101T060000
END:STANDARD
END:VTIMEZONE
BEGIN:VEVENT
DTSTART;TZID=America/New_York:20191210T160000
DTEND;TZID=America/New_York:20191210T190000
DTSTAMP:20260421T202849
CREATED:20191031T130256Z
LAST-MODIFIED:20191031T130256Z
UID:10000012-1575993600-1576004400@www.csevery1.com
SUMMARY:Employee Holiday Party
DESCRIPTION:
URL:https://www.csevery1.com/event/employee-holiday-party/
LOCATION:Foundry\, 1738 Elmwood Avenue\, Buffalo\, NY\, 14207
GEO:42.9447724;-78.8789117
X-APPLE-STRUCTURED-LOCATION;VALUE=URI;X-ADDRESS=Foundry 1738 Elmwood Avenue Buffalo NY 14207;X-APPLE-RADIUS=500;X-TITLE=1738 Elmwood Avenue:geo:-78.8789117,42.9447724
END:VEVENT
END:VCALENDAR