BEGIN:VCALENDAR
VERSION:2.0
PRODID:-//Community Services for Every1 - ECPv6.15.20//NONSGML v1.0//EN
CALSCALE:GREGORIAN
METHOD:PUBLISH
X-WR-CALNAME:Community Services for Every1
X-ORIGINAL-URL:https://www.csevery1.com
X-WR-CALDESC:Events for Community Services for Every1
REFRESH-INTERVAL;VALUE=DURATION:PT1H
X-Robots-Tag:noindex
X-PUBLISHED-TTL:PT1H
BEGIN:VTIMEZONE
TZID:America/New_York
BEGIN:DAYLIGHT
TZOFFSETFROM:-0500
TZOFFSETTO:-0400
TZNAME:EDT
DTSTART:20180311T070000
END:DAYLIGHT
BEGIN:STANDARD
TZOFFSETFROM:-0400
TZOFFSETTO:-0500
TZNAME:EST
DTSTART:20181104T060000
END:STANDARD
BEGIN:DAYLIGHT
TZOFFSETFROM:-0500
TZOFFSETTO:-0400
TZNAME:EDT
DTSTART:20190310T070000
END:DAYLIGHT
BEGIN:STANDARD
TZOFFSETFROM:-0400
TZOFFSETTO:-0500
TZNAME:EST
DTSTART:20191103T060000
END:STANDARD
BEGIN:DAYLIGHT
TZOFFSETFROM:-0500
TZOFFSETTO:-0400
TZNAME:EDT
DTSTART:20200308T070000
END:DAYLIGHT
BEGIN:STANDARD
TZOFFSETFROM:-0400
TZOFFSETTO:-0500
TZNAME:EST
DTSTART:20201101T060000
END:STANDARD
BEGIN:DAYLIGHT
TZOFFSETFROM:-0500
TZOFFSETTO:-0400
TZNAME:EDT
DTSTART:20210314T070000
END:DAYLIGHT
BEGIN:STANDARD
TZOFFSETFROM:-0400
TZOFFSETTO:-0500
TZNAME:EST
DTSTART:20211107T060000
END:STANDARD
BEGIN:DAYLIGHT
TZOFFSETFROM:-0500
TZOFFSETTO:-0400
TZNAME:EDT
DTSTART:20220313T070000
END:DAYLIGHT
BEGIN:STANDARD
TZOFFSETFROM:-0400
TZOFFSETTO:-0500
TZNAME:EST
DTSTART:20221106T060000
END:STANDARD
BEGIN:DAYLIGHT
TZOFFSETFROM:-0500
TZOFFSETTO:-0400
TZNAME:EDT
DTSTART:20230312T070000
END:DAYLIGHT
BEGIN:STANDARD
TZOFFSETFROM:-0400
TZOFFSETTO:-0500
TZNAME:EST
DTSTART:20231105T060000
END:STANDARD
BEGIN:DAYLIGHT
TZOFFSETFROM:-0500
TZOFFSETTO:-0400
TZNAME:EDT
DTSTART:20240310T070000
END:DAYLIGHT
BEGIN:STANDARD
TZOFFSETFROM:-0400
TZOFFSETTO:-0500
TZNAME:EST
DTSTART:20241103T060000
END:STANDARD
BEGIN:DAYLIGHT
TZOFFSETFROM:-0500
TZOFFSETTO:-0400
TZNAME:EDT
DTSTART:20250309T070000
END:DAYLIGHT
BEGIN:STANDARD
TZOFFSETFROM:-0400
TZOFFSETTO:-0500
TZNAME:EST
DTSTART:20251102T060000
END:STANDARD
BEGIN:DAYLIGHT
TZOFFSETFROM:-0500
TZOFFSETTO:-0400
TZNAME:EDT
DTSTART:20260308T070000
END:DAYLIGHT
BEGIN:STANDARD
TZOFFSETFROM:-0400
TZOFFSETTO:-0500
TZNAME:EST
DTSTART:20261101T060000
END:STANDARD
BEGIN:DAYLIGHT
TZOFFSETFROM:-0500
TZOFFSETTO:-0400
TZNAME:EDT
DTSTART:20270314T070000
END:DAYLIGHT
BEGIN:STANDARD
TZOFFSETFROM:-0400
TZOFFSETTO:-0500
TZNAME:EST
DTSTART:20271107T060000
END:STANDARD
END:VTIMEZONE
BEGIN:VEVENT
DTSTART;TZID=America/New_York:20260408T133000
DTEND;TZID=America/New_York:20260408T160000
DTSTAMP:20260421T164936
CREATED:20260330T182337Z
LAST-MODIFIED:20260330T185531Z
UID:10000018-1775655000-1775664000@www.csevery1.com
SUMMARY:Bippity-Boppity Cooking Camp
DESCRIPTION:Bippity-Boppity-Book your spot! \nWe still have open spots for our Bippity-Boppity Cooking Camp happening on April 8! Campers will select which Cinderella-themed recipes they want to make with the help of our chefs from Easy Eats\, our culinary team! \nSpots are limited\, so don’t miss your chance to be part of the magic and register today!
URL:https://www.csevery1.com/event/bippity-boppity-cooking-camp/
LOCATION:Jefferson Career Exploration Center\, 1485 Jefferson Ave\, Buffalo\, NY\, 14208\, United States
END:VEVENT
BEGIN:VEVENT
DTSTART;TZID=America/New_York:20260402T070000
DTEND;TZID=America/New_York:20260405T190000
DTSTAMP:20260421T164936
CREATED:20260330T191021Z
LAST-MODIFIED:20260330T191041Z
UID:10000019-1775113200-1775415600@www.csevery1.com
SUMMARY:Every1 Gives
DESCRIPTION:Every1 Gives is Community Services for Every1’s annual Day of Giving.\n\n\n\nWe’re coming together to support the everyday services that help people with developmental disabilities\, chronic health and mental condition\, and survivors of domestic violence.\n\n\n\nGifts made during Every1 Gives support essential programs that people rely on every day. Your gift helps ensure they continue with dignity\, access\, and care. Make a donation to support us.\n\n\n\nhttps://www.csevery1.com/every1-gives-our-day-of-giving/
URL:https://www.csevery1.com/event/50621/
LOCATION:https://www.csevery1.com/event/50621/
END:VEVENT
BEGIN:VEVENT
DTSTART;TZID=America/New_York:20210621T110000
DTEND;TZID=America/New_York:20210621T190000
DTSTAMP:20260421T164936
CREATED:20210112T145534Z
LAST-MODIFIED:20231121T165204Z
UID:10000016-1624273200-1624302000@www.csevery1.com
SUMMARY:8th Annual Chipping in for Community Services Golf Tournament
DESCRIPTION:Our 8th Annual Chipping in for Community Services Golf Tournament will take place on Monday\, June 21 at Wanakah Country Club. Please visit www.csevery1.com/golftournament for sponsorship and registration information. We look forward to hitting the links with you this summer!
URL:https://www.csevery1.com/event/8th-annual-chipping-in-for-community-services-golf-tournament/
LOCATION:Wanakah Country Club\, 5161 Lake Shore Road\, Hamburg\, NY\, 14075\, United States
GEO:42.736175;-78.912024
X-APPLE-STRUCTURED-LOCATION;VALUE=URI;X-ADDRESS=Wanakah Country Club 5161 Lake Shore Road Hamburg NY 14075 United States;X-APPLE-RADIUS=500;X-TITLE=5161 Lake Shore Road:geo:-78.912024,42.736175
END:VEVENT
BEGIN:VEVENT
DTSTART;TZID=America/New_York:20201113T190000
DTEND;TZID=America/New_York:20201113T200000
DTSTAMP:20260421T164936
CREATED:20200128T182137Z
LAST-MODIFIED:20201005T154737Z
UID:10000013-1605294000-1605297600@www.csevery1.com
SUMMARY:Rockin' with Every1
DESCRIPTION:Rockin’ with Every1 is going virtual this year! join us for a LIVE concert with The Strictly Hip\, all from the safety and comforts of your home. We will be rockin’ out on Friday\, November 13 from 7pm until 8pm. To register for this FREE event\, visit www.csevery1.com/events. \nStay tuned for more details on our silent auction and how you can donate to Community Services during the concert! All donations go to the Community Services Foundation to support the WNY disability community.
URL:https://www.csevery1.com/event/community-services-fall-fundraiser/
END:VEVENT
BEGIN:VEVENT
DTSTART;TZID=America/New_York:20200811T160000
DTEND;TZID=America/New_York:20200811T170000
DTSTAMP:20260421T164936
CREATED:20200730T150351Z
LAST-MODIFIED:20200730T150351Z
UID:10000015-1597161600-1597165200@www.csevery1.com
SUMMARY:Informational Call for Families\, Advocates and Outside Providers
DESCRIPTION:Join us for our upcoming Informational Call for Families\, Advocates and Outside Providers from 4 to 5 p.m. on Tuesday\, August 11th. Community Services for Every1 wants to ensure our families\, advocates and outside providers are informed regarding program operations as a result of COVID-19. Focus will include information on keeping those we support healthy and safe\, communication\, re-opening of day services and continuation of community based services. President and CEO Mindy Cervoni and COO Sharon Chmielnicki will be hosting the call. \nIn order to address the variety of inquiries from families\, advocates and outside providers we are encouraging and welcoming questions in advance. They can be sent to covid19@csevery1.com. Please send questions by Friday\, August 7. \nCall In Number:  +1 716-371-1017 \nConference ID: 335 769 195#\n \nFor more information\, download the flyer here.
URL:https://www.csevery1.com/event/informational-call-for-families-advocates-and-outside-providers/
END:VEVENT
BEGIN:VEVENT
DTSTART;TZID=America/New_York:20200417T110000
DTEND;TZID=America/New_York:20200417T140000
DTSTAMP:20260421T164936
CREATED:20200303T161540Z
LAST-MODIFIED:20200318T142353Z
UID:10000014-1587121200-1587132000@www.csevery1.com
SUMMARY:Informational Fair - Postponed
DESCRIPTION:Our Informational Fair scheduled for Friday\, April 17\, has been postponed. Stay tuned for a new date.
URL:https://www.csevery1.com/event/informational-fair/
LOCATION:Community Services for Every1\, 1845 Kenmore Avenue\, Buffalo\, New York\, 14217\, United States
GEO:42.9587952;-78.8866932
X-APPLE-STRUCTURED-LOCATION;VALUE=URI;X-ADDRESS=Community Services for Every1 1845 Kenmore Avenue Buffalo New York 14217 United States;X-APPLE-RADIUS=500;X-TITLE=1845 Kenmore Avenue:geo:-78.8866932,42.9587952
END:VEVENT
BEGIN:VEVENT
DTSTART;VALUE=DATE:20191212
DTEND;VALUE=DATE:20191214
DTSTAMP:20260421T164936
CREATED:20191010T165327Z
LAST-MODIFIED:20191010T165327Z
UID:10000011-1576108800-1576281599@www.csevery1.com
SUMMARY:Adopt-A-Family Holiday Store
DESCRIPTION:
URL:https://www.csevery1.com/event/adopt-a-family-holiday-store/
LOCATION:Community Services for Every1\, 1845 Kenmore Avenue\, Buffalo\, New York\, 14217\, United States
GEO:42.9587952;-78.8866932
X-APPLE-STRUCTURED-LOCATION;VALUE=URI;X-ADDRESS=Community Services for Every1 1845 Kenmore Avenue Buffalo New York 14217 United States;X-APPLE-RADIUS=500;X-TITLE=1845 Kenmore Avenue:geo:-78.8866932,42.9587952
END:VEVENT
BEGIN:VEVENT
DTSTART;TZID=America/New_York:20191210T160000
DTEND;TZID=America/New_York:20191210T190000
DTSTAMP:20260421T164936
CREATED:20191031T130256Z
LAST-MODIFIED:20191031T130256Z
UID:10000012-1575993600-1576004400@www.csevery1.com
SUMMARY:Employee Holiday Party
DESCRIPTION:
URL:https://www.csevery1.com/event/employee-holiday-party/
LOCATION:Foundry\, 1738 Elmwood Avenue\, Buffalo\, NY\, 14207
GEO:42.9447724;-78.8789117
X-APPLE-STRUCTURED-LOCATION;VALUE=URI;X-ADDRESS=Foundry 1738 Elmwood Avenue Buffalo NY 14207;X-APPLE-RADIUS=500;X-TITLE=1738 Elmwood Avenue:geo:-78.8789117,42.9447724
END:VEVENT
BEGIN:VEVENT
DTSTART;VALUE=DATE:20191203
DTEND;VALUE=DATE:20191204
DTSTAMP:20260421T164936
CREATED:20191010T164943Z
LAST-MODIFIED:20191010T164943Z
UID:10000010-1575331200-1575417599@www.csevery1.com
SUMMARY:Giving Tuesday
DESCRIPTION:Giving Tuesday is a one day\, online giving campaign. Donations can be made at www.csevery1.com/donate.
URL:https://www.csevery1.com/event/giving-tuesday/
END:VEVENT
BEGIN:VEVENT
DTSTART;TZID=America/New_York:20190821T100000
DTEND;TZID=America/New_York:20190821T140000
DTSTAMP:20260421T164936
CREATED:20190717T145144Z
LAST-MODIFIED:20190820T125047Z
UID:10000009-1566381600-1566396000@www.csevery1.com
SUMMARY:Creating Connections Picnic
DESCRIPTION:
URL:https://www.csevery1.com/event/creating-connections-picnic/
LOCATION:Bowen Road Grove Shelter\, 3805-3893 Bowen Road\, Lancaster\, NY\, 14086\, United States
GEO:42.8916166;-78.6429299
X-APPLE-STRUCTURED-LOCATION;VALUE=URI;X-ADDRESS=Bowen Road Grove Shelter 3805-3893 Bowen Road Lancaster NY 14086 United States;X-APPLE-RADIUS=500;X-TITLE=3805-3893 Bowen Road:geo:-78.6429299,42.8916166
END:VEVENT
END:VCALENDAR