BEGIN:VCALENDAR
VERSION:2.0
PRODID:-//Community Services for Every1 - ECPv6.15.20//NONSGML v1.0//EN
CALSCALE:GREGORIAN
METHOD:PUBLISH
X-ORIGINAL-URL:https://www.csevery1.com
X-WR-CALDESC:Events for Community Services for Every1
REFRESH-INTERVAL;VALUE=DURATION:PT1H
X-Robots-Tag:noindex
X-PUBLISHED-TTL:PT1H
BEGIN:VTIMEZONE
TZID:America/New_York
BEGIN:DAYLIGHT
TZOFFSETFROM:-0500
TZOFFSETTO:-0400
TZNAME:EDT
DTSTART:20250309T070000
END:DAYLIGHT
BEGIN:STANDARD
TZOFFSETFROM:-0400
TZOFFSETTO:-0500
TZNAME:EST
DTSTART:20251102T060000
END:STANDARD
BEGIN:DAYLIGHT
TZOFFSETFROM:-0500
TZOFFSETTO:-0400
TZNAME:EDT
DTSTART:20260308T070000
END:DAYLIGHT
BEGIN:STANDARD
TZOFFSETFROM:-0400
TZOFFSETTO:-0500
TZNAME:EST
DTSTART:20261101T060000
END:STANDARD
BEGIN:DAYLIGHT
TZOFFSETFROM:-0500
TZOFFSETTO:-0400
TZNAME:EDT
DTSTART:20270314T070000
END:DAYLIGHT
BEGIN:STANDARD
TZOFFSETFROM:-0400
TZOFFSETTO:-0500
TZNAME:EST
DTSTART:20271107T060000
END:STANDARD
END:VTIMEZONE
BEGIN:VEVENT
DTSTART;TZID=America/New_York:20260402T070000
DTEND;TZID=America/New_York:20260405T190000
DTSTAMP:20260421T151028
CREATED:20260330T191021Z
LAST-MODIFIED:20260330T191041Z
UID:10000019-1775113200-1775415600@www.csevery1.com
SUMMARY:Every1 Gives
DESCRIPTION:Every1 Gives is Community Services for Every1’s annual Day of Giving.\n\n\n\nWe’re coming together to support the everyday services that help people with developmental disabilities\, chronic health and mental condition\, and survivors of domestic violence.\n\n\n\nGifts made during Every1 Gives support essential programs that people rely on every day. Your gift helps ensure they continue with dignity\, access\, and care. Make a donation to support us.\n\n\n\nhttps://www.csevery1.com/every1-gives-our-day-of-giving/
URL:https://www.csevery1.com/event/50621/
LOCATION:https://www.csevery1.com/event/50621/
END:VEVENT
BEGIN:VEVENT
DTSTART;TZID=America/New_York:20260408T133000
DTEND;TZID=America/New_York:20260408T160000
DTSTAMP:20260421T151028
CREATED:20260330T182337Z
LAST-MODIFIED:20260330T185531Z
UID:10000018-1775655000-1775664000@www.csevery1.com
SUMMARY:Bippity-Boppity Cooking Camp
DESCRIPTION:Bippity-Boppity-Book your spot! \nWe still have open spots for our Bippity-Boppity Cooking Camp happening on April 8! Campers will select which Cinderella-themed recipes they want to make with the help of our chefs from Easy Eats\, our culinary team! \nSpots are limited\, so don’t miss your chance to be part of the magic and register today!
URL:https://www.csevery1.com/event/bippity-boppity-cooking-camp/
LOCATION:Jefferson Career Exploration Center\, 1485 Jefferson Ave\, Buffalo\, NY\, 14208\, United States
END:VEVENT
BEGIN:VEVENT
DTSTART;TZID=America/New_York:20260629T100000
DTEND;TZID=America/New_York:20260629T193000
DTSTAMP:20260421T151028
CREATED:20260330T181639Z
LAST-MODIFIED:20260330T182741Z
UID:10000017-1782727200-1782761400@www.csevery1.com
SUMMARY:13th Annual Chipping In for Community Services Golf Tournament
DESCRIPTION:Join us for a fun day of golf on the beautiful Wanakah Golf Course for the 13th Annual Chipping In for Community Services for Every 1 Golf Tournament. Twosome and foursome golfer packages includes lunch\, hors d’oeuvres\, and dinner catered by the country club. We also have silent auctions\, contests – including a $10\,000 hole-in-one contest- raffles\, and more. \nPurchase twosome\, foursome\, and dinner-only tickets online at Chipping In 2026. \n 
URL:https://www.csevery1.com/event/13th-annual-chipping-in-for-community-services-golf-tournament/
LOCATION:Wanakah Country Club\, 5161 Lake Shore Road\, Hamburg\, NY\, 14075\, United States
ORGANIZER;CN="Christy Windhausen":MAILTO:cwindhausen@csevery1.com
GEO:42.736175;-78.912024
X-APPLE-STRUCTURED-LOCATION;VALUE=URI;X-ADDRESS=Wanakah Country Club 5161 Lake Shore Road Hamburg NY 14075 United States;X-APPLE-RADIUS=500;X-TITLE=5161 Lake Shore Road:geo:-78.912024,42.736175
END:VEVENT
END:VCALENDAR